BEGIN:VCALENDAR
VERSION:2.0
PRODID:-//MoreDirt v1.0//EN
BEGIN:VEVENT
DTSTAMP:20150730T130000Z
ORGANIZER;CN=Berwyn Bike Park:MAILTO:
STATUS:CONFIRMED
UID:MORESPORTSNETWORK5301
DTSTART:20220918T080000Z
DTEND:20220918T120000Z
SUMMARY:Berwyn Bike Park Uplift Day
DESCRIPTION:Berwyn Bike Park Uplift Day - more details: https://www.moredirt.com/event/5301
X-ALT-DESC;FMTTYPE=text/html:Berwyn Bike Park Uplift Day - more details: https://www.moredirt.com/event/5301
LOCATION:
END:VEVENT
END:VCALENDAR