BEGIN:VCALENDAR
VERSION:2.0
PRODID:-//MoreDirt v1.0//EN
BEGIN:VEVENT
DTSTAMP:20150730T130000Z
ORGANIZER;CN=Dirt Farm:MAILTO:
STATUS:CONFIRMED
UID:MORESPORTSNETWORK5300
DTSTART:20220924T080000Z
DTEND:20220924T120000Z
SUMMARY:Ladies Day - Dirt Farm
DESCRIPTION:Ladies Day - Dirt Farm - more details: https://www.moredirt.com/event/5300
X-ALT-DESC;FMTTYPE=text/html:Ladies Day - Dirt Farm - more details: https://www.moredirt.com/event/5300
LOCATION:
END:VEVENT
END:VCALENDAR