BEGIN:VCALENDAR
VERSION:2.0
PRODID:-//MoreDirt v1.0//EN
BEGIN:VEVENT
DTSTAMP:20150730T130000Z
ORGANIZER;CN=Jane Noad:MAILTO:
STATUS:CONFIRMED
UID:MORESPORTSNETWORK5295
DTSTART:20221002T080000Z
DTEND:20221002T120000Z
SUMMARY:Viking Challenge 2022
DESCRIPTION:Viking Challenge 2022 - more details: https://www.moredirt.com/event/5295
X-ALT-DESC;FMTTYPE=text/html:Viking Challenge 2022 - more details: https://www.moredirt.com/event/5295
LOCATION:
END:VEVENT
END:VCALENDAR