BEGIN:VCALENDAR
VERSION:2.0
PRODID:-//MoreDirt v1.0//EN
BEGIN:VEVENT
DTSTAMP:20150730T130000Z
ORGANIZER;CN=Grinduro Global Events:MAILTO:
STATUS:CONFIRMED
UID:MORESPORTSNETWORK5292
DTSTART:20220930T080000Z
DTEND:20220930T120000Z
SUMMARY:Grinduro Germany
DESCRIPTION:Grinduro Germany - more details: https://www.moredirt.com/event/5292
X-ALT-DESC;FMTTYPE=text/html:Grinduro Germany - more details: https://www.moredirt.com/event/5292
LOCATION:
END:VEVENT
END:VCALENDAR