BEGIN:VCALENDAR
VERSION:2.0
PRODID:-//MoreDirt v1.0//EN
BEGIN:VEVENT
DTSTAMP:20150730T130000Z
ORGANIZER;CN=GAP MTB:MAILTO:
STATUS:CONFIRMED
UID:MORESPORTSNETWORK5289
DTSTART:20220824T080000Z
DTEND:20220824T120000Z
SUMMARY:The GAP MTB Kids Enduro Race Experience
DESCRIPTION:The GAP MTB Kids Enduro Race Experience - more details: https://www.moredirt.com/event/5289
X-ALT-DESC;FMTTYPE=text/html:The GAP MTB Kids Enduro Race Experience - more details: https://www.moredirt.com/event/5289
LOCATION:
END:VEVENT
END:VCALENDAR