BEGIN:VCALENDAR
VERSION:2.0
PRODID:-//MoreDirt v1.0//EN
BEGIN:VEVENT
DTSTAMP:20150730T130000Z
ORGANIZER;CN=Dirt Farm:MAILTO:
STATUS:CONFIRMED
UID:MORESPORTSNETWORK5285
DTSTART:20220716T080000Z
DTEND:20220716T120000Z
SUMMARY:Ladies Day - Dirt Farm
DESCRIPTION:Ladies Day - Dirt Farm - more details: https://www.moredirt.com/event/5285
X-ALT-DESC;FMTTYPE=text/html:Ladies Day - Dirt Farm - more details: https://www.moredirt.com/event/5285
LOCATION:
END:VEVENT
END:VCALENDAR