BEGIN:VCALENDAR
VERSION:2.0
PRODID:-//MoreDirt v1.0//EN
BEGIN:VEVENT
DTSTAMP:20150730T130000Z
ORGANIZER;CN=Edge Cycles:MAILTO:
STATUS:CONFIRMED
UID:MORESPORTSNETWORK5284
DTSTART:20220703T080000Z
DTEND:20220703T120000Z
SUMMARY:Edge Cycles DH Series Round 3 2022
DESCRIPTION:Edge Cycles DH Series Round 3 2022 - more details: https://www.moredirt.com/event/5284
X-ALT-DESC;FMTTYPE=text/html:Edge Cycles DH Series Round 3 2022 - more details: https://www.moredirt.com/event/5284
LOCATION:
END:VEVENT
END:VCALENDAR