BEGIN:VCALENDAR
VERSION:2.0
PRODID:-//MoreDirt v1.0//EN
BEGIN:VEVENT
DTSTAMP:20150730T130000Z
ORGANIZER;CN=The Staveley 3 Valleys Challenge:MAILTO:
STATUS:CONFIRMED
UID:MORESPORTSNETWORK5275
DTSTART:20220611T080000Z
DTEND:20220611T120000Z
SUMMARY:Staveley 3 Valleys Challenge 2022
DESCRIPTION:Staveley 3 Valleys Challenge 2022 - more details: https://www.moredirt.com/event/5275
X-ALT-DESC;FMTTYPE=text/html:Staveley 3 Valleys Challenge 2022 - more details: https://www.moredirt.com/event/5275
LOCATION:
END:VEVENT
END:VCALENDAR