BEGIN:VCALENDAR
VERSION:2.0
PRODID:-//MoreDirt v1.0//EN
BEGIN:VEVENT
DTSTAMP:20150730T130000Z
ORGANIZER;CN=Chestnut Tree House:MAILTO:
STATUS:CONFIRMED
UID:MORESPORTSNETWORK5272
DTSTART:20220717T080000Z
DTEND:20220717T120000Z
SUMMARY:Hit the Downs MTB for Chestnut Tree House
DESCRIPTION:Hit the Downs MTB for Chestnut Tree House - more details: https://www.moredirt.com/event/5272
X-ALT-DESC;FMTTYPE=text/html:Hit the Downs MTB for Chestnut Tree House - more details: https://www.moredirt.com/event/5272
LOCATION:
END:VEVENT
END:VCALENDAR