BEGIN:VCALENDAR
VERSION:2.0
PRODID:-//MoreDirt v1.0//EN
BEGIN:VEVENT
DTSTAMP:20150730T130000Z
ORGANIZER;CN=Chestnut Tree House:MAILTO:
STATUS:CONFIRMED
UID:MORESPORTSNETWORK5271
DTSTART:20220717T080000Z
DTEND:20220717T120000Z
SUMMARY:Hit the Downs MTB for St Barnabas Hospice
DESCRIPTION:Hit the Downs MTB for St Barnabas Hospice - more details: https://www.moredirt.com/event/5271
X-ALT-DESC;FMTTYPE=text/html:Hit the Downs MTB for St Barnabas Hospice - more details: https://www.moredirt.com/event/5271
LOCATION:
END:VEVENT
END:VCALENDAR