BEGIN:VCALENDAR
VERSION:2.0
PRODID:-//MoreDirt v1.0//EN
BEGIN:VEVENT
DTSTAMP:20150730T130000Z
ORGANIZER;CN=Dalby Bike Barn:MAILTO:
STATUS:CONFIRMED
UID:MORESPORTSNETWORK5265
DTSTART:20220710T080000Z
DTEND:20220710T120000Z
SUMMARY:Top Of The Moors - Gravel Sportive
DESCRIPTION:Top Of The Moors - Gravel Sportive - more details: https://www.moredirt.com/event/5265
X-ALT-DESC;FMTTYPE=text/html:Top Of The Moors - Gravel Sportive - more details: https://www.moredirt.com/event/5265
LOCATION:
END:VEVENT
END:VCALENDAR