BEGIN:VCALENDAR
VERSION:2.0
PRODID:-//MoreDirt v1.0//EN
BEGIN:VEVENT
DTSTAMP:20150730T130000Z
ORGANIZER;CN=Birmingham Urban Mountain Pedalers:MAILTO:
STATUS:CONFIRMED
UID:MORESPORTSNETWORK5255
DTSTART:20220604T080000Z
DTEND:20220605T120000Z
SUMMARY:Bump N Grind Race Weekend
DESCRIPTION:Bump N Grind Race Weekend - more details: https://www.moredirt.com/event/5255
X-ALT-DESC;FMTTYPE=text/html:Bump N Grind Race Weekend - more details: https://www.moredirt.com/event/5255
LOCATION:
END:VEVENT
END:VCALENDAR