BEGIN:VCALENDAR
VERSION:2.0
PRODID:-//MoreDirt v1.0//EN
BEGIN:VEVENT
DTSTAMP:20150730T130000Z
ORGANIZER;CN=Adrenaline Sporting Events:MAILTO:
STATUS:CONFIRMED
UID:MORESPORTSNETWORK5254
DTSTART:20220723T080000Z
DTEND:20220724T120000Z
SUMMARY:Valley Burner Festival 2022
DESCRIPTION:Valley Burner Festival 2022 - more details: https://www.moredirt.com/event/5254
X-ALT-DESC;FMTTYPE=text/html:Valley Burner Festival 2022 - more details: https://www.moredirt.com/event/5254
LOCATION:
END:VEVENT
END:VCALENDAR