BEGIN:VCALENDAR
VERSION:2.0
PRODID:-//MoreDirt v1.0//EN
BEGIN:VEVENT
DTSTAMP:20150730T130000Z
ORGANIZER;CN=Trail Party :MAILTO:
STATUS:CONFIRMED
UID:MORESPORTSNETWORK5251
DTSTART:20220507T080000Z
DTEND:20220507T120000Z
SUMMARY:Spider Mountain DH Series #3
DESCRIPTION:Spider Mountain DH Series #3 - more details: https://www.moredirt.com/event/5251
X-ALT-DESC;FMTTYPE=text/html:Spider Mountain DH Series #3 - more details: https://www.moredirt.com/event/5251
LOCATION:
END:VEVENT
END:VCALENDAR