BEGIN:VCALENDAR
VERSION:2.0
PRODID:-//MoreDirt v1.0//EN
BEGIN:VEVENT
DTSTAMP:20150730T130000Z
ORGANIZER;CN=Trail Party :MAILTO:
STATUS:CONFIRMED
UID:MORESPORTSNETWORK5248
DTSTART:20220910T080000Z
DTEND:20220910T120000Z
SUMMARY:Trail Party Gravity Stage Racing - RD5
DESCRIPTION:Trail Party Gravity Stage Racing - RD5 - more details: https://www.moredirt.com/event/5248
X-ALT-DESC;FMTTYPE=text/html:Trail Party Gravity Stage Racing - RD5 - more details: https://www.moredirt.com/event/5248
LOCATION:
END:VEVENT
END:VCALENDAR