BEGIN:VCALENDAR
VERSION:2.0
PRODID:-//MoreDirt v1.0//EN
BEGIN:VEVENT
DTSTAMP:20150730T130000Z
ORGANIZER;CN=Trail Party :MAILTO:
STATUS:CONFIRMED
UID:MORESPORTSNETWORK5246
DTSTART:20220723T080000Z
DTEND:20220723T120000Z
SUMMARY:Trail Party Gravity Stage Racing - RD3
DESCRIPTION:Trail Party Gravity Stage Racing - RD3 - more details: https://www.moredirt.com/event/5246
X-ALT-DESC;FMTTYPE=text/html:Trail Party Gravity Stage Racing - RD3 - more details: https://www.moredirt.com/event/5246
LOCATION:
END:VEVENT
END:VCALENDAR