BEGIN:VCALENDAR
VERSION:2.0
PRODID:-//MoreDirt v1.0//EN
BEGIN:VEVENT
DTSTAMP:20150730T130000Z
ORGANIZER;CN=Berwyn Bike Park:MAILTO:
STATUS:CONFIRMED
UID:MORESPORTSNETWORK5220
DTSTART:20220529T080000Z
DTEND:20220529T120000Z
SUMMARY:Berwyn Bike Park Uplift Day
DESCRIPTION:Berwyn Bike Park Uplift Day - more details: https://www.moredirt.com/event/5220
X-ALT-DESC;FMTTYPE=text/html:Berwyn Bike Park Uplift Day - more details: https://www.moredirt.com/event/5220
LOCATION:
END:VEVENT
END:VCALENDAR