BEGIN:VCALENDAR
VERSION:2.0
PRODID:-//MoreDirt v1.0//EN
BEGIN:VEVENT
DTSTAMP:20150730T130000Z
ORGANIZER;CN=Wheelbase North East:MAILTO:
STATUS:CONFIRMED
UID:MORESPORTSNETWORK5219
DTSTART:20220423T080000Z
DTEND:20220423T120000Z
SUMMARY:Wheelbase Big Demo Day 2022 - Hamsterley Forest
DESCRIPTION:Wheelbase Big Demo Day 2022 - Hamsterley Forest - more details: https://www.moredirt.com/event/5219
X-ALT-DESC;FMTTYPE=text/html:Wheelbase Big Demo Day 2022 - Hamsterley Forest - more details: https://www.moredirt.com/event/5219
LOCATION:
END:VEVENT
END:VCALENDAR