BEGIN:VCALENDAR
VERSION:2.0
PRODID:-//MoreDirt v1.0//EN
BEGIN:VEVENT
DTSTAMP:20150730T130000Z
ORGANIZER;CN=Project EVOLVE:MAILTO:
STATUS:CONFIRMED
UID:MORESPORTSNETWORK5218
DTSTART:20220502T080000Z
DTEND:20220502T120000Z
SUMMARY:Project EVOLVE Women's Gravity Jam
DESCRIPTION:Project EVOLVE Women's Gravity Jam - more details: https://www.moredirt.com/event/5218
X-ALT-DESC;FMTTYPE=text/html:Project EVOLVE Women's Gravity Jam - more details: https://www.moredirt.com/event/5218
LOCATION:
END:VEVENT
END:VCALENDAR