BEGIN:VCALENDAR
VERSION:2.0
PRODID:-//MoreDirt v1.0//EN
BEGIN:VEVENT
DTSTAMP:20150730T130000Z
ORGANIZER;CN=Lisa Davis:MAILTO:
STATUS:CONFIRMED
UID:MORESPORTSNETWORK5217
DTSTART:20220420T080000Z
DTEND:20220420T120000Z
SUMMARY:The GAP Kids Enduro
DESCRIPTION:The GAP Kids Enduro - more details: https://www.moredirt.com/event/5217
X-ALT-DESC;FMTTYPE=text/html:The GAP Kids Enduro - more details: https://www.moredirt.com/event/5217
LOCATION:
END:VEVENT
END:VCALENDAR