BEGIN:VCALENDAR
VERSION:2.0
PRODID:-//MoreDirt v1.0//EN
BEGIN:VEVENT
DTSTAMP:20150730T130000Z
ORGANIZER;CN=York Fire Rescue Inc:MAILTO:debbieyork38special@gmail.com
STATUS:CONFIRMED
UID:MORESPORTSNETWORK5216
DTSTART:20220820T080000Z
DTEND:20220820T120000Z
SUMMARY:York 38 Special
DESCRIPTION:York 38 Special - more details: https://www.moredirt.com/event/5216
X-ALT-DESC;FMTTYPE=text/html:York 38 Special - more details: https://www.moredirt.com/event/5216
LOCATION:
END:VEVENT
END:VCALENDAR