BEGIN:VCALENDAR
VERSION:2.0
PRODID:-//MoreDirt v1.0//EN
BEGIN:VEVENT
DTSTAMP:20150730T130000Z
ORGANIZER;CN=Swinley.CC:MAILTO:
STATUS:CONFIRMED
UID:MORESPORTSNETWORK5213
DTSTART:20220529T080000Z
DTEND:20220529T120000Z
SUMMARY:Central XC Round 4
DESCRIPTION:Central XC Round 4 - more details: https://www.moredirt.com/event/5213
X-ALT-DESC;FMTTYPE=text/html:Central XC Round 4 - more details: https://www.moredirt.com/event/5213
LOCATION:
END:VEVENT
END:VCALENDAR