BEGIN:VCALENDAR
VERSION:2.0
PRODID:-//MoreDirt v1.0//EN
BEGIN:VEVENT
DTSTAMP:20150730T130000Z
ORGANIZER;CN=Swinley.CC:MAILTO:
STATUS:CONFIRMED
UID:MORESPORTSNETWORK5212
DTSTART:20220612T080000Z
DTEND:20220612T120000Z
SUMMARY:Central XC Round 3
DESCRIPTION:Central XC Round 3 - more details: https://www.moredirt.com/event/5212
X-ALT-DESC;FMTTYPE=text/html:Central XC Round 3 - more details: https://www.moredirt.com/event/5212
LOCATION:
END:VEVENT
END:VCALENDAR