BEGIN:VCALENDAR
VERSION:2.0
PRODID:-//MoreDirt v1.0//EN
BEGIN:VEVENT
DTSTAMP:20150730T130000Z
ORGANIZER;CN=Pearce Cycles:MAILTO:
STATUS:CONFIRMED
UID:MORESPORTSNETWORK520
DTSTART:20121021T080000Z
DTEND:20121021T120000Z
SUMMARY:Hopton Woods Charity Gravity Enduro
DESCRIPTION:Hopton Woods Charity Gravity Enduro - more details: https://www.moredirt.com/event/520
X-ALT-DESC;FMTTYPE=text/html:Hopton Woods Charity Gravity Enduro - more details: https://www.moredirt.com/event/520
LOCATION:
END:VEVENT
END:VCALENDAR