BEGIN:VCALENDAR
VERSION:2.0
PRODID:-//MoreDirt v1.0//EN
BEGIN:VEVENT
DTSTAMP:20150730T130000Z
ORGANIZER;CN=Oneplanet Adventure:MAILTO:
STATUS:CONFIRMED
UID:MORESPORTSNETWORK5208
DTSTART:20220430T080000Z
DTEND:20220501T120000Z
SUMMARY:Oneplanet Adventure Demo Weekend 2022
DESCRIPTION:Oneplanet Adventure Demo Weekend 2022 - more details: https://www.moredirt.com/event/5208
X-ALT-DESC;FMTTYPE=text/html:Oneplanet Adventure Demo Weekend 2022 - more details: https://www.moredirt.com/event/5208
LOCATION:
END:VEVENT
END:VCALENDAR