BEGIN:VCALENDAR
VERSION:2.0
PRODID:-//MoreDirt v1.0//EN
BEGIN:VEVENT
DTSTAMP:20150730T130000Z
ORGANIZER;CN=Falkirk Junior Bike Club:MAILTO:
STATUS:CONFIRMED
UID:MORESPORTSNETWORK5207
DTSTART:20220617T080000Z
DTEND:20220617T120000Z
SUMMARY:FJBC Summer Dirt Crits 2022 Round 3
DESCRIPTION:FJBC Summer Dirt Crits 2022 Round 3 - more details: https://www.moredirt.com/event/5207
X-ALT-DESC;FMTTYPE=text/html:FJBC Summer Dirt Crits 2022 Round 3 - more details: https://www.moredirt.com/event/5207
LOCATION:
END:VEVENT
END:VCALENDAR