BEGIN:VCALENDAR
VERSION:2.0
PRODID:-//MoreDirt v1.0//EN
BEGIN:VEVENT
DTSTAMP:20150730T130000Z
ORGANIZER;CN=Gravity Enduro South Australia:MAILTO:
STATUS:CONFIRMED
UID:MORESPORTSNETWORK5201
DTSTART:20221009T080000Z
DTEND:20221009T120000Z
SUMMARY:Gravity Enduro South Australia 2022 - RD5
DESCRIPTION:Gravity Enduro South Australia 2022 - RD5 - more details: https://www.moredirt.com/event/5201
X-ALT-DESC;FMTTYPE=text/html:Gravity Enduro South Australia 2022 - RD5 - more details: https://www.moredirt.com/event/5201
LOCATION:
END:VEVENT
END:VCALENDAR