BEGIN:VCALENDAR
VERSION:2.0
PRODID:-//MoreDirt v1.0//EN
BEGIN:VEVENT
DTSTAMP:20150730T130000Z
ORGANIZER;CN=Gravity Enduro South Australia:MAILTO:
STATUS:CONFIRMED
UID:MORESPORTSNETWORK5200
DTSTART:20220911T080000Z
DTEND:20220911T120000Z
SUMMARY:Gravity Enduro South Australia 2022 - RD4
DESCRIPTION:Gravity Enduro South Australia 2022 - RD4 - more details: https://www.moredirt.com/event/5200
X-ALT-DESC;FMTTYPE=text/html:Gravity Enduro South Australia 2022 - RD4 - more details: https://www.moredirt.com/event/5200
LOCATION:
END:VEVENT
END:VCALENDAR