BEGIN:VCALENDAR
VERSION:2.0
PRODID:-//MoreDirt v1.0//EN
BEGIN:VEVENT
DTSTAMP:20150730T130000Z
ORGANIZER;CN=Pearce Cycles:MAILTO:
STATUS:CONFIRMED
UID:MORESPORTSNETWORK519
DTSTART:20121020T080000Z
DTEND:20121020T120000Z
SUMMARY:Hopton Woods Charity Downhill - Incorporating Midlands Championships
DESCRIPTION:Hopton Woods Charity Downhill - Incorporating Midlands Championships - more details: https://www.moredirt.com/event/519
X-ALT-DESC;FMTTYPE=text/html:Hopton Woods Charity Downhill - Incorporating Midlands Championships - more details: https://www.moredirt.com/event/519
LOCATION:
END:VEVENT
END:VCALENDAR