BEGIN:VCALENDAR
VERSION:2.0
PRODID:-//MoreDirt v1.0//EN
BEGIN:VEVENT
DTSTAMP:20150730T130000Z
ORGANIZER;CN=Gravity Enduro South Australia:MAILTO:
STATUS:CONFIRMED
UID:MORESPORTSNETWORK5199
DTSTART:20220717T080000Z
DTEND:20220717T120000Z
SUMMARY:Gravity Enduro South Australia 2022 - RD3
DESCRIPTION:Gravity Enduro South Australia 2022 - RD3 - more details: https://www.moredirt.com/event/5199
X-ALT-DESC;FMTTYPE=text/html:Gravity Enduro South Australia 2022 - RD3 - more details: https://www.moredirt.com/event/5199
LOCATION:
END:VEVENT
END:VCALENDAR