BEGIN:VCALENDAR
VERSION:2.0
PRODID:-//MoreDirt v1.0//EN
BEGIN:VEVENT
DTSTAMP:20150730T130000Z
ORGANIZER;CN=Lambo:MAILTO:
STATUS:CONFIRMED
UID:MORESPORTSNETWORK5194
DTSTART:20220611T080000Z
DTEND:20220611T120000Z
SUMMARY:InSayner Adventure Mountain Bike Race 2022
DESCRIPTION:InSayner Adventure Mountain Bike Race 2022 - more details: https://www.moredirt.com/event/5194
X-ALT-DESC;FMTTYPE=text/html:InSayner Adventure Mountain Bike Race 2022 - more details: https://www.moredirt.com/event/5194
LOCATION:
END:VEVENT
END:VCALENDAR