BEGIN:VCALENDAR
VERSION:2.0
PRODID:-//MoreDirt v1.0//EN
BEGIN:VEVENT
DTSTAMP:20150730T130000Z
ORGANIZER;CN=WO2 (AQMS):MAILTO:
STATUS:CONFIRMED
UID:MORESPORTSNETWORK5189
DTSTART:20220615T080000Z
DTEND:20220615T120000Z
SUMMARY:Army Cycling Enduro Series (ACES) Round 2
DESCRIPTION:Army Cycling Enduro Series (ACES) Round 2 - more details: https://www.moredirt.com/event/5189
X-ALT-DESC;FMTTYPE=text/html:Army Cycling Enduro Series (ACES) Round 2 - more details: https://www.moredirt.com/event/5189
LOCATION:
END:VEVENT
END:VCALENDAR