BEGIN:VCALENDAR
VERSION:2.0
PRODID:-//MoreDirt v1.0//EN
BEGIN:VEVENT
DTSTAMP:20150730T130000Z
ORGANIZER;CN=WO2 (AQMS):MAILTO:
STATUS:CONFIRMED
UID:MORESPORTSNETWORK5188
DTSTART:20220504T080000Z
DTEND:20220504T120000Z
SUMMARY:Army Cycling Enduro Series (ACES) Round 1
DESCRIPTION:Army Cycling Enduro Series (ACES) Round 1 - more details: https://www.moredirt.com/event/5188
X-ALT-DESC;FMTTYPE=text/html:Army Cycling Enduro Series (ACES) Round 1 - more details: https://www.moredirt.com/event/5188
LOCATION:
END:VEVENT
END:VCALENDAR