BEGIN:VCALENDAR
VERSION:2.0
PRODID:-//MoreDirt v1.0//EN
BEGIN:VEVENT
DTSTAMP:20150730T130000Z
ORGANIZER;CN=Northern Hills CASA:MAILTO:
STATUS:CONFIRMED
UID:MORESPORTSNETWORK5179
DTSTART:20220820T080000Z
DTEND:20220820T120000Z
SUMMARY:Black Hills Super 6 MTB Race
DESCRIPTION:Black Hills Super 6 MTB Race - more details: https://www.moredirt.com/event/5179
X-ALT-DESC;FMTTYPE=text/html:Black Hills Super 6 MTB Race - more details: https://www.moredirt.com/event/5179
LOCATION:
END:VEVENT
END:VCALENDAR