BEGIN:VCALENDAR
VERSION:2.0
PRODID:-//MoreDirt v1.0//EN
BEGIN:VEVENT
DTSTAMP:20150730T130000Z
ORGANIZER;CN=RiderCoaching:MAILTO:
STATUS:CONFIRMED
UID:MORESPORTSNETWORK515
DTSTART:20130210T080000+0000
DTEND:20130210T120000+0000
SUMMARY:RC Winter Series - Round 4 Rother Valley Country Park
DESCRIPTION:RC Winter Series - Round 4 Rother Valley Country Park - more details: https://www.moredirt.com/event/515
X-ALT-DESC;FMTTYPE=text/html:RC Winter Series - Round 4 Rother Valley Country Park - more details: https://www.moredirt.com/event/515
LOCATION:
END:VEVENT
END:VCALENDAR