BEGIN:VCALENDAR
VERSION:2.0
PRODID:-//MoreDirt v1.0//EN
BEGIN:VEVENT
DTSTAMP:20150730T130000Z
ORGANIZER;CN=St Austell Wheelers CC:MAILTO:
STATUS:CONFIRMED
UID:MORESPORTSNETWORK5154
DTSTART:20220305T080000+0000
DTEND:20220305T120000+0000
SUMMARY:The Cornwall Bicycle Project CIC MTB XC
DESCRIPTION:The Cornwall Bicycle Project CIC MTB XC - more details: https://www.moredirt.com/event/5154
X-ALT-DESC;FMTTYPE=text/html:The Cornwall Bicycle Project CIC MTB XC - more details: https://www.moredirt.com/event/5154
LOCATION:
END:VEVENT
END:VCALENDAR