BEGIN:VCALENDAR
VERSION:2.0
PRODID:-//MoreDirt v1.0//EN
BEGIN:VEVENT
DTSTAMP:20150730T130000Z
ORGANIZER;CN=The Bull Track:MAILTO:
STATUS:CONFIRMED
UID:MORESPORTSNETWORK5153
DTSTART:20220619T080000Z
DTEND:20220619T120000Z
SUMMARY:The Bull Track DH Race Series RD 3 2022
DESCRIPTION:The Bull Track DH Race Series RD 3 2022 - more details: https://www.moredirt.com/event/5153
X-ALT-DESC;FMTTYPE=text/html:The Bull Track DH Race Series RD 3 2022 - more details: https://www.moredirt.com/event/5153
LOCATION:
END:VEVENT
END:VCALENDAR