BEGIN:VCALENDAR
VERSION:2.0
PRODID:-//MoreDirt v1.0//EN
BEGIN:VEVENT
DTSTAMP:20150730T130000Z
ORGANIZER;CN=The Bull Track:MAILTO:
STATUS:CONFIRMED
UID:MORESPORTSNETWORK5151
DTSTART:20220501T080000Z
DTEND:20220501T120000Z
SUMMARY:The Bull Track DH Race Series RD 1 2022
DESCRIPTION:The Bull Track DH Race Series RD 1 2022 - more details: https://www.moredirt.com/event/5151
X-ALT-DESC;FMTTYPE=text/html:The Bull Track DH Race Series RD 1 2022 - more details: https://www.moredirt.com/event/5151
LOCATION:
END:VEVENT
END:VCALENDAR