BEGIN:VCALENDAR
VERSION:2.0
PRODID:-//MoreDirt v1.0//EN
BEGIN:VEVENT
DTSTAMP:20150730T130000Z
ORGANIZER;CN=Snowdonia MTB Events:MAILTO:
STATUS:CONFIRMED
UID:MORESPORTSNETWORK5106
DTSTART:20220904T080000Z
DTEND:20220904T120000Z
SUMMARY:Elan Valley MTB Challenge 2022
DESCRIPTION:Elan Valley MTB Challenge 2022 - more details: https://www.moredirt.com/event/5106
X-ALT-DESC;FMTTYPE=text/html:Elan Valley MTB Challenge 2022 - more details: https://www.moredirt.com/event/5106
LOCATION:
END:VEVENT
END:VCALENDAR