BEGIN:VCALENDAR
VERSION:2.0
PRODID:-//MoreDirt v1.0//EN
BEGIN:VEVENT
DTSTAMP:20150730T130000Z
ORGANIZER;CN=Steel City Series:MAILTO:
STATUS:CONFIRMED
UID:MORESPORTSNETWORK5105
DTSTART:20220514T080000Z
DTEND:20220514T120000Z
SUMMARY:Peaty's Steel City DH 2022
DESCRIPTION:Peaty's Steel City DH 2022 - more details: https://www.moredirt.com/event/5105
X-ALT-DESC;FMTTYPE=text/html:Peaty's Steel City DH 2022 - more details: https://www.moredirt.com/event/5105
LOCATION:
END:VEVENT
END:VCALENDAR