BEGIN:VCALENDAR
VERSION:2.0
PRODID:-//MoreDirt v1.0//EN
BEGIN:VEVENT
DTSTAMP:20150730T130000Z
ORGANIZER;CN=Mud Sweat and Gears:MAILTO:
STATUS:CONFIRMED
UID:MORESPORTSNETWORK507
DTSTART:20121111T080000+0000
DTEND:20121111T120000+0000
SUMMARY:The Dorset Dirty Dabbler
DESCRIPTION:The Dorset Dirty Dabbler - more details: https://www.moredirt.com/event/507
X-ALT-DESC;FMTTYPE=text/html:The Dorset Dirty Dabbler - more details: https://www.moredirt.com/event/507
LOCATION:
END:VEVENT
END:VCALENDAR