BEGIN:VCALENDAR
VERSION:2.0
PRODID:-//MoreDirt v1.0//EN
BEGIN:VEVENT
DTSTAMP:20150730T130000Z
ORGANIZER;CN=Wheelbase Cycles:MAILTO:
STATUS:CONFIRMED
UID:MORESPORTSNETWORK5068
DTSTART:20220312T080000+0000
DTEND:20220313T120000+0000
SUMMARY:Big Demo Weekend 2022
DESCRIPTION:Big Demo Weekend 2022 - more details: https://www.moredirt.com/event/5068
X-ALT-DESC;FMTTYPE=text/html:Big Demo Weekend 2022 - more details: https://www.moredirt.com/event/5068
LOCATION:
END:VEVENT
END:VCALENDAR