BEGIN:VCALENDAR
VERSION:2.0
PRODID:-//MoreDirt v1.0//EN
BEGIN:VEVENT
DTSTAMP:20150730T130000Z
ORGANIZER;CN=Kye Forte:MAILTO:
STATUS:CONFIRMED
UID:MORESPORTSNETWORK5054
DTSTART:20220129T080000+0000
DTEND:20220129T120000+0000
SUMMARY:Barncross - Wheeldon Farm
DESCRIPTION:Barncross - Wheeldon Farm - more details: https://www.moredirt.com/event/5054
X-ALT-DESC;FMTTYPE=text/html:Barncross - Wheeldon Farm - more details: https://www.moredirt.com/event/5054
LOCATION:
END:VEVENT
END:VCALENDAR