BEGIN:VCALENDAR
VERSION:2.0
PRODID:-//MoreDirt v1.0//EN
BEGIN:VEVENT
DTSTAMP:20150730T130000Z
ORGANIZER;CN=Steedz Enduro:MAILTO:
STATUS:CONFIRMED
UID:MORESPORTSNETWORK5034
DTSTART:20220724T080000Z
DTEND:20220724T120000Z
SUMMARY:The Canmore Enduro 2022
DESCRIPTION:The Canmore Enduro 2022 - more details: https://www.moredirt.com/event/5034
X-ALT-DESC;FMTTYPE=text/html:The Canmore Enduro 2022 - more details: https://www.moredirt.com/event/5034
LOCATION:
END:VEVENT
END:VCALENDAR