BEGIN:VCALENDAR
VERSION:2.0
PRODID:-//MoreDirt v1.0//EN
BEGIN:VEVENT
DTSTAMP:20150730T130000Z
ORGANIZER;CN=Manx MTB Enduro:MAILTO:
STATUS:CONFIRMED
UID:MORESPORTSNETWORK5019
DTSTART:20220709T080000Z
DTEND:20220710T120000Z
SUMMARY:CYCLE 360 2 DAY
DESCRIPTION:CYCLE 360 2 DAY - more details: https://www.moredirt.com/event/5019
X-ALT-DESC;FMTTYPE=text/html:CYCLE 360 2 DAY - more details: https://www.moredirt.com/event/5019
LOCATION:
END:VEVENT
END:VCALENDAR