BEGIN:VCALENDAR
VERSION:2.0
PRODID:-//MoreDirt v1.0//EN
BEGIN:VEVENT
DTSTAMP:20150730T130000Z
ORGANIZER;CN=Sisters of Send:MAILTO:
STATUS:CONFIRMED
UID:MORESPORTSNETWORK5009
DTSTART:20220514T080000Z
DTEND:20220515T120000Z
SUMMARY:Sisters of Send Weekend 2022
DESCRIPTION:Sisters of Send Weekend 2022 - more details: https://www.moredirt.com/event/5009
X-ALT-DESC;FMTTYPE=text/html:Sisters of Send Weekend 2022 - more details: https://www.moredirt.com/event/5009
LOCATION:
END:VEVENT
END:VCALENDAR