BEGIN:VCALENDAR
VERSION:2.0
PRODID:-//MoreDirt v1.0//EN
BEGIN:VEVENT
DTSTAMP:20150730T130000Z
ORGANIZER;CN=Enduro Southeast:MAILTO:
STATUS:CONFIRMED
UID:MORESPORTSNETWORK5007
DTSTART:20230219T080000+0000
DTEND:20230219T120000+0000
SUMMARY:Enduro Southeast RD1 2023
DESCRIPTION:Enduro Southeast RD1 2023 - more details: https://www.moredirt.com/event/5007
X-ALT-DESC;FMTTYPE=text/html:Enduro Southeast RD1 2023 - more details: https://www.moredirt.com/event/5007
LOCATION:
END:VEVENT
END:VCALENDAR