BEGIN:VCALENDAR
VERSION:2.0
PRODID:-//MoreDirt v1.0//EN
BEGIN:VEVENT
DTSTAMP:20150730T130000Z
ORGANIZER;CN=Primal Challenges:MAILTO:
STATUS:CONFIRMED
UID:MORESPORTSNETWORK5004
DTSTART:20221008T080000Z
DTEND:20221008T120000Z
SUMMARY:Lakelander Gravel Grinder 2022
DESCRIPTION:Lakelander Gravel Grinder 2022 - more details: https://www.moredirt.com/event/5004
X-ALT-DESC;FMTTYPE=text/html:Lakelander Gravel Grinder 2022 - more details: https://www.moredirt.com/event/5004
LOCATION:
END:VEVENT
END:VCALENDAR