BEGIN:VCALENDAR
VERSION:2.0
PRODID:-//MoreDirt v1.0//EN
BEGIN:VEVENT
DTSTAMP:20150730T130000Z
ORGANIZER;CN=Long Mynd Batch Burner:MAILTO:
STATUS:CONFIRMED
UID:MORESPORTSNETWORK5003
DTSTART:20220625T080000Z
DTEND:20220625T120000Z
SUMMARY:LongMynd Batch Burner 2022
DESCRIPTION:LongMynd Batch Burner 2022 - more details: https://www.moredirt.com/event/5003
X-ALT-DESC;FMTTYPE=text/html:LongMynd Batch Burner 2022 - more details: https://www.moredirt.com/event/5003
LOCATION:
END:VEVENT
END:VCALENDAR