BEGIN:VCALENDAR
VERSION:2.0
PRODID:-//MoreDirt v1.0//EN
BEGIN:VEVENT
DTSTAMP:20150730T130000Z
ORGANIZER;CN=On The Edge Events:MAILTO:
STATUS:CONFIRMED
UID:MORESPORTSNETWORK4983
DTSTART:20220305T080000+0000
DTEND:20220305T120000+0000
SUMMARY:Kooralbyn Valley 4hr Enduro XCM 2022
DESCRIPTION:Kooralbyn Valley 4hr Enduro XCM 2022 - more details: https://www.moredirt.com/event/4983
X-ALT-DESC;FMTTYPE=text/html:Kooralbyn Valley 4hr Enduro XCM 2022 - more details: https://www.moredirt.com/event/4983
LOCATION:
END:VEVENT
END:VCALENDAR